Workbook

Sheet Indice
B2: CPIA CATANIA 2
B3: 95014 GIARRE (CT) - VIALE LIBERTA, 151 - C.F. 92032760875 C.M. CTMM151004
B5: INDICE DI TEMPESTIVITA' DEI PAGAMENTI | F5: 2026
A7: INDICATORE SU BASE ANNUALE
A8: Numero Fatture | C8: Importo Pagato | E8: Tempo medio di pagamento in gg.
A9: =SUM(B13:B16) -> 52 | C9: =SUM(C13:C16) -> 107568.86 | E9: =('Trimestre 1'!H1+'Trimestre 2'!H1+'Trimestre 3'!H1+'Trimestre 4'!H1)/C9 -> -26.36535
A11: INDICATORE SU BASE TRIMESTRALE
A12: TRIMESTRE | B12: Numero Fatture | C12: Importo Pagato | D12: Tempo medio (MEDIA PONDERATA SU BASE TRIMESTRALE) di pagamento in gg. | E12: Ammontare complessivo dei debiti | F12: Numero delle imprese creditrici
A13: 1° TRIMESTRE | B13: 20 | C13: ='Trimestre 1'!B1 -> 63887.89 | D13: ='Trimestre 1'!G1 -> -26.871576 | E13: 0 | F13: 0
A14: 2° TRIMESTRE | B14: 18 | C14: ='Trimestre 2'!B1 -> 10062.76 | D14: ='Trimestre 2'!G1 -> -27.389547 | E14: 0 | F14: 0
A15: 3° TRIMESTRE | B15: 14 | C15: ='Trimestre 3'!B1 -> 33618.21 | D15: ='Trimestre 3'!G1 -> -25.096754 | E15: 0 | F15: 0
A16: 4° TRIMESTRE | B16: 0 | C16: ='Trimestre 4'!B1 -> 0 | D16: ='Trimestre 4'!G1 -> 0

Sheet Trimestre 1
B1: =SUM(B4:B195) -> 63887.89 | G1: =IF(B1<>0,H1/B1,0) -> -26.871576 | H1: =SUM(H4:H195) -> -1716768.3
A3: Documento | B3: Importo Pagato | C3: Data Scadenza | D3: Data Pagamento | E3: Periodo inesigibilità | G3: Giorni dopo scadenza | H3: Importo x giorni pagamento
A4: E/35 del 12/01/2026 | B4: 360 | C4: 46078 | D4: 46049 | G4: =D4-C4-(F4-E4) -> -29 | H4: =B4*G4 -> -10440
A5: 139/P del 30/12/2025 | B5: 768.44 | C5: 46078 | D5: 46049 | G5: =D5-C5-(F5-E5) -> -29 | H5: =B5*G5 -> -22284.76
A6: CPES26000010/EA del 07/01/2026 | B6: 1540 | C6: 46078 | D6: 46049 | G6: =D6-C6-(F6-E6) -> -29 | H6: =B6*G6 -> -44660
A7: 2/PA-2026 del 27/01/2026 | B7: 4740 | C7: 46081 | D7: 46051 | G7: =D7-C7-(F7-E7) -> -30 | H7: =B7*G7 -> -142200
A8: 1 del 23/01/2026 | B8: 8450 | C8: 46081 | D8: 46051 | G8: =D8-C8-(F8-E8) -> -30 | H8: =B8*G8 -> -253500
A9: 2066/FVISE del 29/01/2026 | B9: 1368 | C9: 46088 | D9: 46058 | G9: =D9-C9-(F9-E9) -> -30 | H9: =B9*G9 -> -41040
A10: FPA 1/25 del 27/01/2026 | B10: 3950 | C10: 46081 | D10: 46058 | G10: =D10-C10-(F10-E10) -> -23 | H10: =B10*G10 -> -90850
A11: 1 del 28/01/2026 | B11: 4500 | C11: 46081 | D11: 46072 | G11: =D11-C11-(F11-E11) -> -9 | H11: =B11*G11 -> -40500
A12: 2026BENA005010805 del 20/02/2026 | B12: 3120 | C12: 46114 | D12: 46084 | G12: =D12-C12-(F12-E12) -> -30 | H12: =B12*G12 -> -93600
A13: 2026BENA005010805 del 20/02/2026 | B13: 292.5 | C13: 46114 | D13: 46084 | G13: =D13-C13-(F13-E13) -> -30 | H13: =B13*G13 -> -8775
A14: 1/PA del 06/03/2026 | B14: 7160 | C14: 46121 | D14: 46091 | G14: =D14-C14-(F14-E14) -> -30 | H14: =B14*G14 -> -214800
A15: FPA 2/26 del 11/03/2026 | B15: 3950 | C15: 46123 | D15: 46104 | G15: =D15-C15-(F15-E15) -> -19 | H15: =B15*G15 -> -75050
... A24: 20 del 25/03/2026 | B24: 7360 | C24: 46137 | D24: 46107 | G24: =D24-C24-(F24-E24) -> -30 | H24: =B24*G24 -> -220800
G25: =D25-C25-(F25-E25) -> 0 | H25: =B25*G25 -> 0
G26: =D26-C26-(F26-E26) -> 0 | H26: =B26*G26 -> 0
G27: =D27-C27-(F27-E27) -> 0 | H27: =B27*G27 -> 0
G28: =D28-C28-(F28-E28) -> 0 | H28: =B28*G28 -> 0
G29: =D29-C29-(F29-E29) -> 0 | H29: =B29*G29 -> 0
G30: =D30-C30-(F30-E30) -> 0 | H30: =B30*G30 -> 0
G31: =D31-C31-(F31-E31) -> 0 | H31: =B31*G31 -> 0
G32: =D32-C32-(F32-E32) -> 0 | H32: =B32*G32 -> 0
G33: =D33-C33-(F33-E33) -> 0 | H33: =B33*G33 -> 0
G34: =D34-C34-(F34-E34) -> 0 | H34: =B34*G34 -> 0
G35: =D35-C35-(F35-E35) -> 0 | H35: =B35*G35 -> 0
G36: =D36-C36-(F36-E36) -> 0 | H36: =B36*G36 -> 0
... G203: =D203-C203-(F203-E203) -> 0 | H203: =B203*G203 -> 0

Sheet Trimestre 2
B1: =SUM(B4:B195) -> 10062.76 | G1: =IF(B1<>0,H1/B1,0) -> -27.389547 | H1: =SUM(H4:H195) -> -275614.44
A3: Documento | B3: Importo Pagato | C3: Data Scadenza | D3: Data Pagamento | E3: Periodo inesigibilità | G3: Giorni dopo scadenza | H3: Importo x giorni pagamento
A4: FPA 9/26 del 28/03/2026 | B4: 1850 | C4: 46151 | D4: 46121 | G4: =D4-C4-(F4-E4) -> -30 | H4: =B4*G4 -> -55500
A5: 35/P del 31/03/2026 | B5: 768.44 | C5: 46151 | D5: 46121 | G5: =D5-C5-(F5-E5) -> -30 | H5: =B5*G5 -> -23053.2
A6: B65 del 07/04/2026 | B6: 353.14 | C6: 46151 | D6: 46147 | G6: =D6-C6-(F6-E6) -> -4 | H6: =B6*G6 -> -1412.56
A7: 89/PA-2026 del 15/04/2026 | B7: 731.12 | C7: 46178 | D7: 46149 | G7: =D7-C7-(F7-E7) -> -29 | H7: =B7*G7 -> -21202.48
A8: E/256 del 30/04/2026 | B8: 150 | C8: 46178 | D8: 46149 | G8: =D8-C8-(F8-E8) -> -29 | H8: =B8*G8 -> -4350
A9: 2026S3000891 del 30/04/2026 | B9: 418.94 | C9: 46178 | D9: 46149 | G9: =D9-C9-(F9-E9) -> -29 | H9: =B9*G9 -> -12149.26
A10: 16/PA del 18/05/2026 | B10: 182.38 | C10: 46194 | D10: 46167 | G10: =D10-C10-(F10-E10) -> -27 | H10: =B10*G10 -> -4924.26
A11: 890/00 del 14/05/2026 | B11: 1359.84 | C11: 46194 | D11: 46167 | G11: =D11-C11-(F11-E11) -> -27 | H11: =B11*G11 -> -36715.68
A12: 891/00 del 14/05/2026 | B12: 906.56 | C12: 46194 | D12: 46167 | G12: =D12-C12-(F12-E12) -> -27 | H12: =B12*G12 -> -24477.12
A13: 3337/FVIAC del 18/05/2026 | B13: 231 | C13: 46200 | D13: 46170 | G13: =D13-C13-(F13-E13) -> -30 | H13: =B13*G13 -> -6930
A14: 8/2026 del 25/05/2026 | B14: 320 | C14: 46200 | D14: 46170 | G14: =D14-C14-(F14-E14) -> -30 | H14: =B14*G14 -> -9600
A15: 3716/FVIAC del 27/05/2026 | B15: 152.1 | C15: 46215 | D15: 46191 | G15: =D15-C15-(F15-E15) -> -24 | H15: =B15*G15 -> -3650.4
... A21: CP108/E del 26/06/2026 | B21: 770 | C21: 46232 | D21: 46202 | G21: =D21-C21-(F21-E21) -> -30 | H21: =B21*G21 -> -23100
G22: =D22-C22-(F22-E22) -> 0 | H22: =B22*G22 -> 0
G23: =D23-C23-(F23-E23) -> 0 | H23: =B23*G23 -> 0
G24: =D24-C24-(F24-E24) -> 0 | H24: =B24*G24 -> 0
G25: =D25-C25-(F25-E25) -> 0 | H25: =B25*G25 -> 0
G26: =D26-C26-(F26-E26) -> 0 | H26: =B26*G26 -> 0
G27: =D27-C27-(F27-E27) -> 0 | H27: =B27*G27 -> 0
G28: =D28-C28-(F28-E28) -> 0 | H28: =B28*G28 -> 0
G29: =D29-C29-(F29-E29) -> 0 | H29: =B29*G29 -> 0
G30: =D30-C30-(F30-E30) -> 0 | H30: =B30*G30 -> 0
G31: =D31-C31-(F31-E31) -> 0 | H31: =B31*G31 -> 0
G32: =D32-C32-(F32-E32) -> 0 | H32: =B32*G32 -> 0
G33: =D33-C33-(F33-E33) -> 0 | H33: =B33*G33 -> 0
... G203: =D203-C203-(F203-E203) -> 0 | H203: =B203*G203 -> 0

Sheet Trimestre 3
B1: =SUM(B4:B195) -> 33618.21 | G1: =IF(B1<>0,H1/B1,0) -> -25.096754 | H1: =SUM(H4:H195) -> -843707.94
A3: Documento | B3: Importo Pagato | C3: Data Scadenza | D3: Data Pagamento | E3: Periodo inesigibilità | G3: Giorni dopo scadenza | H3: Importo x giorni pagamento
A4: E/499 del 01/07/2026 | B4: 360 | C4: 46239 | D4: 46219 | G4: =D4-C4-(F4-E4) -> -20 | H4: =B4*G4 -> -7200
A5: 8E del 30/06/2026 | B5: 1380 | C5: 46249 | D5: 46219 | G5: =D5-C5-(F5-E5) -> -30 | H5: =B5*G5 -> -41400
A6: 8/PA del 17/07/2026 | B6: 11300 | C6: 46261 | D6: 46231 | G6: =D6-C6-(F6-E6) -> -30 | H6: =B6*G6 -> -339000
A7: 18/2026/PA del 12/07/2026 | B7: 184.98 | C7: 46249 | D7: 46231 | G7: =D7-C7-(F7-E7) -> -18 | H7: =B7*G7 -> -3329.64
A8: 64/P del 26/06/2026 | B8: 768.44 | C8: 46239 | D8: 46232 | G8: =D8-C8-(F8-E8) -> -7 | H8: =B8*G8 -> -5379.08
A9: 70/P del 16/07/2026 | B9: -768.44 | C9: 46254 | D9: 46232 | G9: =D9-C9-(F9-E9) -> -22 | H9: =B9*G9 -> 16905.68
A10: 74/P del 28/07/2026 | B10: 768.44 | C10: 46262 | D10: 46232 | G10: =D10-C10-(F10-E10) -> -30 | H10: =B10*G10 -> -23053.2
A11: 49 PA del 09/07/2026 | B11: 8588.8 | C11: 46264 | D11: 46234 | G11: =D11-C11-(F11-E11) -> -30 | H11: =B11*G11 -> -257664
A12: 50 PA del 10/07/2026 | B12: 427 | C12: 46264 | D12: 46234 | G12: =D12-C12-(F12-E12) -> -30 | H12: =B12*G12 -> -12810
A13: 13/PA del 02/09/2026 | B13: 614.55 | C13: 46310 | D13: 46280 | G13: =D13-C13-(F13-E13) -> -30 | H13: =B13*G13 -> -18436.5
A14: 50FAT del 24/08/2026 | B14: 8376 | C14: 46303 | D14: 46290 | G14: =D14-C14-(F14-E14) -> -13 | H14: =B14*G14 -> -108888
A15: 705 / A del 17/09/2026 | B15: 750 | C15: 46318 | D15: 46294 | G15: =D15-C15-(F15-E15) -> -24 | H15: =B15*G15 -> -18000
... A17: 106/P del 28/09/2026 | B17: 768.44 | C17: 46324 | D17: 46294 | G17: =D17-C17-(F17-E17) -> -30 | H17: =B17*G17 -> -23053.2
G18: =D18-C18-(F18-E18) -> 0 | H18: =B18*G18 -> 0
G19: =D19-C19-(F19-E19) -> 0 | H19: =B19*G19 -> 0
G20: =D20-C20-(F20-E20) -> 0 | H20: =B20*G20 -> 0
G21: =D21-C21-(F21-E21) -> 0 | H21: =B21*G21 -> 0
G22: =D22-C22-(F22-E22) -> 0 | H22: =B22*G22 -> 0
G23: =D23-C23-(F23-E23) -> 0 | H23: =B23*G23 -> 0
G24: =D24-C24-(F24-E24) -> 0 | H24: =B24*G24 -> 0
G25: =D25-C25-(F25-E25) -> 0 | H25: =B25*G25 -> 0
G26: =D26-C26-(F26-E26) -> 0 | H26: =B26*G26 -> 0
G27: =D27-C27-(F27-E27) -> 0 | H27: =B27*G27 -> 0
G28: =D28-C28-(F28-E28) -> 0 | H28: =B28*G28 -> 0
G29: =D29-C29-(F29-E29) -> 0 | H29: =B29*G29 -> 0
... G203: =D203-C203-(F203-E203) -> 0 | H203: =B203*G203 -> 0

Sheet Trimestre 4
B1: =SUM(B4:B195) -> 0 | G1: =IF(B1<>0,H1/B1,0) -> 0 | H1: =SUM(H4:H195) -> 0
A3: Documento | B3: Importo Pagato | C3: Data Scadenza | D3: Data Pagamento | E3: Periodo inesigibilità | G3: Giorni dopo scadenza | H3: Importo x giorni pagamento
G4: =D4-C4-(F4-E4) -> 0 | H4: =B4*G4 -> 0
G5: =D5-C5-(F5-E5) -> 0 | H5: =B5*G5 -> 0
G6: =D6-C6-(F6-E6) -> 0 | H6: =B6*G6 -> 0
G7: =D7-C7-(F7-E7) -> 0 | H7: =B7*G7 -> 0
G8: =D8-C8-(F8-E8) -> 0 | H8: =B8*G8 -> 0
G9: =D9-C9-(F9-E9) -> 0 | H9: =B9*G9 -> 0
G10: =D10-C10-(F10-E10) -> 0 | H10: =B10*G10 -> 0
G11: =D11-C11-(F11-E11) -> 0 | H11: =B11*G11 -> 0
G12: =D12-C12-(F12-E12) -> 0 | H12: =B12*G12 -> 0
G13: =D13-C13-(F13-E13) -> 0 | H13: =B13*G13 -> 0
G14: =D14-C14-(F14-E14) -> 0 | H14: =B14*G14 -> 0
G15: =D15-C15-(F15-E15) -> 0 | H15: =B15*G15 -> 0
... G203: =D203-C203-(F203-E203) -> 0 | H203: =B203*G203 -> 0
